BEGIN:VCALENDAR
VERSION:2.0
PRODID:-//wp-events-plugin.com//7.2.3.1//EN
TZID:America/New_York
X-WR-TIMEZONE:America/New_York
BEGIN:VEVENT
UID:297@fibrofoundation.org
DTSTART;TZID=America/New_York:20260918T150000
DTEND;TZID=America/New_York:20260920T120000
DTSTAMP:20260217T223721Z
URL:https://fibrofoundation.org/events/2026-patient-family-gathering/
SUMMARY:2026 Patient &amp\; Family Gathering
DESCRIPTION:\n\nGroup photo at September 2025 Gathering\n\n\n\n\nThe Fibrol
 amellar Cancer Foundation will host this year's Patient &amp\; Family Gath
 ering at the Lake Mansfield Trout Club in Stowe\, Vermont on September 18-
 20\, 2026.The Patient &amp\; Family Gathering is a key event on the Founda
 tion calendar. For many years this event has been held in Stowe\, VT at no
  cost to patients and families.\n\n\n\nFCF considers gathering patients an
 d families to be part of our mission\, as knowing each other and being tog
 ether brings strength and support to the group. This weekend event is a ti
 me for bonding and exchanging advice and information with other members of
  the fibrolamellar community.\n\n\n\nEvent details:\n\n\n\nThe Lake Mansfi
 eld Trout Club in Stowe\, Vermont is a cozy\, rustic lodge with plenty of 
 spaces for conversation\, beautiful walking trails and hearty fare. Activi
 ties at the Trout Club include hiking\, fishing\, canoeing\, and swimming 
 along with exploring the charming town of Stowe.\n\n\n\n\n\n\n\nThe gather
 ing starts with cocktails and dinner Friday evening at 5:00 pm and runs th
 rough Sunday breakfast.\n\n\n\nLogistics:\n\n\n\nThe Trout Club is approxi
 mately 45 minutes from the Burlington\, VT airport.\n\n\n\nTransportation 
 to the Burlington\, VT airport is at your expense. All rooms\, food and ai
 rport transfers from the Burlington\, VT airport to the Lake Mansfield Tro
 ut Club are paid by the Davis family.\n\n\n\nEach room has (2) twin beds a
 nd bathrooms are shared. Meals are served family style.\n\n\n\nLimited tra
 vel assistance is available for those experiencing a financial hardship. P
 lease contact Lynn O'Malley to learn more.\n\n\n\nRegistration:\n\n\n\nMor
 e information will be coming soon. Registration for the 2026 event is expe
 cted to open in June.\n\n\n\n&nbsp\;\n\n\n\n&nbsp\;\n
CATEGORIES:FCF event
LOCATION:Lake Mansfield Trout Club\, 4400 Nebraska Valley Road\, Stowe\, VT
 \, 05672\, United States
GEO:44.473179;-72.810609
X-APPLE-STRUCTURED-LOCATION;VALUE=URI;X-ADDRESS=4400 Nebraska Valley Road\,
  Stowe\, VT\, 05672\, United States;X-APPLE-RADIUS=100;X-TITLE=Lake Mansfi
 eld Trout Club:geo:44.473179,-72.810609
END:VEVENT
BEGIN:VTIMEZONE
TZID:America/New_York
X-LIC-LOCATION:America/New_York
BEGIN:DAYLIGHT
DTSTART:20260308T030000
TZOFFSETFROM:-0500
TZOFFSETTO:-0400
TZNAME:EDT
END:DAYLIGHT
END:VTIMEZONE
END:VCALENDAR