BEGIN:VCALENDAR
VERSION:2.0
PRODID:-//wp-events-plugin.com//7.2.3.1//EN
TZID:America/New_York
X-WR-TIMEZONE:America/New_York
BEGIN:VEVENT
UID:144@fibrofoundation.org
DTSTART;TZID=America/New_York:20230126T170000
DTEND;TZID=America/New_York:20230126T173000
DTSTAMP:20230119T215630Z
URL:https://fibrofoundation.org/events/cactus-cancer-society-journaling-wo
 rkshop-for-aya-patients-caregivers-2023-01-26/
SUMMARY:Cactus Cancer Society journaling workshop for AYA patients\, caregi
 vers
DESCRIPTION:\n\nCome join other young adults facing cancer in this popular 
 30 minute drop in journaling workshop sponsored by Cactus Cancer Society.\
 n\nYou are welcome to drop in once or come as often as you like.  These j
 ournaling techniques will be short\, concrete\, and time-contained.  Sign
  up below to receive the zoom link!\n\nFor more information\, click here!
CATEGORIES:partner-sponsored event
LOCATION:https://cactuscancer.org/sessions/30-minute-tune-up-january-26/
END:VEVENT
BEGIN:VTIMEZONE
TZID:America/New_York
X-LIC-LOCATION:America/New_York
BEGIN:STANDARD
DTSTART:20221106T010000
TZOFFSETFROM:-0400
TZOFFSETTO:-0500
TZNAME:EST
END:STANDARD
END:VTIMEZONE
END:VCALENDAR