BEGIN:VCALENDAR
VERSION:2.0
PRODID:-//wp-events-plugin.com//7.2.3.1//EN
TZID:America/New_York
X-WR-TIMEZONE:America/New_York
BEGIN:VEVENT
UID:129@fibrofoundation.org
DTSTART;TZID=America/New_York:20230123T133000
DTEND;TZID=America/New_York:20230123T143000
DTSTAMP:20221123T132040Z
URL:https://fibrofoundation.org/events/connect-education-workshop-understa
 nding-diagnostic-technologies-biomarkers/
SUMMARY:Connect Education Workshop: Understanding Diagnostic Technologies &
  Biomarkers
DESCRIPTION:\n\nIn this Connect Education Workshop sponsored by CancerCare\
 , the discussion will focus on diagnostic technologies\, biomarkers\, prec
 ision medicine and much more. Registrants can participate either over the 
 phone or online as a webcast.\nTopics Covered:\n\n 	Overview &amp\; Defini
 tion of Diagnostic Technologies &amp\; Biomarkers in the Context of COVID-
 19\n 	How Diagnostic Technologies &amp\; Biomarkers Shape &amp\; Improve T
 reatment Decisions\n 	Why the Molecular Portrait of Cancer is Important\n 
 	The Role of the Pathologist\n 	Benefits of Diagnostic Technologies\, Biom
 arkers &amp\; Precision Medicine\n 	Predicting Response to Treatment\n 	Cl
 inical Trials: How Research Contributes to Your Treatment Options\n 	Key Q
 uestions to Ask Your Health Care Team\n 	Guidelines for Preparing for Tele
 health Appointments with Your Health Care Team\, including Technology\, Pr
 epared List of Questions\, Quality-of-Life Concerns &amp\; Discussion of 2
 021 Care’s Act\n 	Questions for Our Panel of Experts\n\nFor more informa
 tion and to register\, please click here.\n
CATEGORIES:partner-sponsored event
LOCATION:https://www.cancercare.org/connect_workshops/1017-understanding_di
 agnostic_technologies_and_biomarkers_2023-01-23
END:VEVENT
BEGIN:VTIMEZONE
TZID:America/New_York
X-LIC-LOCATION:America/New_York
BEGIN:STANDARD
DTSTART:20221106T010000
TZOFFSETFROM:-0400
TZOFFSETTO:-0500
TZNAME:EST
END:STANDARD
END:VTIMEZONE
END:VCALENDAR