BEGIN:VCALENDAR
VERSION:2.0
PRODID:-//wp-events-plugin.com//7.2.3.1//EN
TZID:America/New_York
X-WR-TIMEZONE:America/New_York
BEGIN:VEVENT
UID:280@fibrofoundation.org
DTSTART;TZID=America/New_York:20251009T190000
DTEND;TZID=America/New_York:20251009T203000
DTSTAMP:20250619T001055Z
URL:https://fibrofoundation.org/events/elephants-and-tea-perkatory-brewing
 -tough-conversations-to-help-each-other-face-cancer-2/
SUMMARY:Elephants and Tea: Perkatory - Brewing Tough Conversations to Help 
 Each Other Face Cancer
DESCRIPTION:\n\n\n\n\nIn 2025\, Elephants and Tea will host four Perkatory 
 events ranging in relatable topics surrounding adolescent and young adult 
 cancer. These events are open to anyone that would like to hear stories fr
 om the AYA cancer community (including patients\, survivors\, caregivers\,
  co-survivors\, loved ones\, nonprofit professionals\, medical professiona
 ls\, etc.).\n\n\n\nPerkatory events are a chance to feature writers and al
 low them to share their pieces about a certain topic aloud to an intimate 
 audience of supporters and peers. \n\n\n\nThe topic of this session is "De
 ar Cancer". If you could speak to cancer\, what would you say? If you coul
 d speak to cancer\, what would you say? Join the group to hear members of 
 the young adult cancer community share their perspectives on this powerful
  topic.\n\n\n\nIn addition to the featured authors\, Elephants and Tea hig
 hlights a different organization at each Perkatory event\, allowing them t
 o share their organization’s mission and unique offerings.\n\n\n\nEach e
 vening closes with a Q&amp\;A session\, where audience members are able to
  ask questions to the featured writers\, and thoughtful discussions can ta
 ke place surrounding the overarching theme.\n\n\n\nThe Nonprofit spotlight
  for this Perkatory event event is Fuck Cancer.\n\n\n\nClick here for more
  information and to register.\n
CATEGORIES:partner-sponsored event
END:VEVENT
BEGIN:VTIMEZONE
TZID:America/New_York
X-LIC-LOCATION:America/New_York
BEGIN:DAYLIGHT
DTSTART:20250309T030000
TZOFFSETFROM:-0500
TZOFFSETTO:-0400
TZNAME:EDT
END:DAYLIGHT
END:VTIMEZONE
END:VCALENDAR