BEGIN:VCALENDAR
VERSION:2.0
PRODID:-//wp-events-plugin.com//7.2.3.1//EN
TZID:America/New_York
X-WR-TIMEZONE:America/New_York
BEGIN:VEVENT
UID:279@fibrofoundation.org
DTSTART;TZID=America/New_York:20251113T190000
DTEND;TZID=America/New_York:20251113T203000
DTSTAMP:20250619T000443Z
URL:https://fibrofoundation.org/events/elephants-and-tea-perkatory-brewing
 -tough-conversations-to-help-each-other-face-cancer/
SUMMARY:Elephants and Tea: Perkatory - Brewing Tough Conversations to Help 
 Each Other Face Cancer
DESCRIPTION:\n\n\n\n\nIn 2025\, Elephants and Tea will host four Perkatory 
 events ranging in relatable topics surrounding adolescent and young adult 
 cancer. These events are open to anyone that would like to hear stories fr
 om the AYA cancer community (including patients\, survivors\, caregivers\,
  co-survivors\, loved ones\, nonprofit professionals\, medical professiona
 ls\, etc.).\n\n\n\nPerkatory events are a chance to feature writers and al
 low them to share their pieces about a certain topic aloud to an intimate 
 audience of supporters and peers. \n\n\n\nThe topic of this session is "Th
 e Give and Take of Cancer". Questions to be examined include:\n\n\n\n\nWha
 t have you gained from cancer?\n\n\n\nWhat have you lost from cancer?\n\n\
 n\nDo the losses or gains you’ve experienced feel balanced to you?\n\n\n
 \n\nIn addition to the featured authors\, Elephants and Tea highlights a d
 ifferent organization at each Perkatory event\, allowing them to share the
 ir organization’s mission and unique offerings.\n\n\n\nEach evening clos
 es with a Q&amp\;A session\, where audience members are able to ask questi
 ons to the featured writers\, and thoughtful discussions can take place su
 rrounding the overarching theme.\n\n\n\nThe Nonprofit spotlight for this P
 erkatory event is The Cassie Hines Shoes Cancer Foundation\n\n\n\nClick h
 ere for more information and to register.\n
CATEGORIES:partner-sponsored event
END:VEVENT
BEGIN:VTIMEZONE
TZID:America/New_York
X-LIC-LOCATION:America/New_York
BEGIN:STANDARD
DTSTART:20251102T010000
TZOFFSETFROM:-0400
TZOFFSETTO:-0500
TZNAME:EST
END:STANDARD
END:VTIMEZONE
END:VCALENDAR