BEGIN:VCALENDAR
VERSION:2.0
PRODID:-//wp-events-plugin.com//7.2.3.1//EN
TZID:America/New_York
X-WR-TIMEZONE:America/New_York
BEGIN:VEVENT
UID:16@fibrofoundation.org
DTSTART;TZID=America/New_York:20210331T133000
DTEND;TZID=America/New_York:20210331T143000
DTSTAMP:20220507T131609Z
URL:https://fibrofoundation.org/events/emerging-importance-of-telemedicine
 -telehealth-appointments-in-communicating-with-your-health-care-team/
SUMMARY:Emerging Importance of Telemedicine/Telehealth Appointments
DESCRIPTION:\n\nIn this Connect Education Workshop sponsored by CancerCare\
 , the discussion will center around the use and importance of telemedicine
  technologies for cancer patient's communications with their healthcare te
 ams. Registrants can listen in live over the phone or online as a webcast.
 \nTopics Covered\n\n 	Overview of Your Health Care Team: Who Are the Membe
 rs of Your Health Care Team\n 	The Importance of Communication\, in the Co
 ntext of COVID-19\n 	Emerging Role of Telehealth/Telemedicine Appointments
 \, in the Context of COVID-19\n 	Tips to Improve Communication with Your H
 ealth Care Team\n 	Preparing for Telehealth/Telemedicine Appointments\n 	D
 o You Have the Needed Technology: Working with Your Doctor’s Office to S
 et-Up Needed Technology Before Your Appointment\n 	Who to Include in These
  Appointments - Family Members\, Partner\, Long Distance Caregivers\n 	Det
 ermining Three Key Questions at the Start of Your Appointment\n 	Discussin
 g Your Treatment Options\, Side Effect/Pain Management &amp\; Clinical Tri
 al Options\n 	How Your Other Chronic Illnesses May Impact Your Cancer Trea
 tment: Reducing Harmful Drug Interactions\n 	Discussion of Adherence: Taki
 ng Your Treatment on Schedule\n 	Your Follow-Up Appointments\, Care &amp\;
  Questions between Telehealth/Telemedicine Appointments\n 	Who to Contact 
 Evenings\, Weekends &amp\; Holidays\, with Their Contact Information\n 	Ba
 lancing Your Quality of Life with Your Healthcare Needs\n 	Questions for t
 he Panel of Experts\n\nClick here for more information or to register for 
 the workshop.
CATEGORIES:partner-sponsored event
END:VEVENT
BEGIN:VTIMEZONE
TZID:America/New_York
X-LIC-LOCATION:America/New_York
BEGIN:DAYLIGHT
DTSTART:20210314T030000
TZOFFSETFROM:-0500
TZOFFSETTO:-0400
TZNAME:EDT
END:DAYLIGHT
END:VTIMEZONE
END:VCALENDAR