BEGIN:VCALENDAR
VERSION:2.0
PRODID:-//wp-events-plugin.com//7.2.3.1//EN
TZID:America/New_York
X-WR-TIMEZONE:America/New_York
BEGIN:VEVENT
UID:133@fibrofoundation.org
DTSTART;TZID=America/New_York:20221212T200000
DTEND;TZID=America/New_York:20221212T210000
DTSTAMP:20230913T153653Z
URL:https://fibrofoundation.org/events/guided-yoga-nidra-meditation-classe
 s-with-angie-giallourakis/
SUMMARY:Guided Yoga Nidra Meditation Classes with Angie Giallourakis
DESCRIPTION:\n\n&nbsp\;\n\nElephants and Tea in collaboration with Cactus C
 ancer Society is offering a guided yoga nidra meditation class lead by Ang
 ie Giallourakis (aka Mamma G).\n\nPlease join on December 12th from 8:00 -
  9:00pm EDT.\n\nTo register please click on link below. https://us02web.zo
 om.us/meeting/register/tZAvce6grj0rGdYcWzSpu28yGtTTSY0QTGAi
CATEGORIES:partner-sponsored event
LOCATION:https://us02web.zoom.us/meeting/register/tZAvce6grj0rGdYcWzSpu28yG
 tTTSY0QTGAi
END:VEVENT
BEGIN:VTIMEZONE
TZID:America/New_York
X-LIC-LOCATION:America/New_York
BEGIN:STANDARD
DTSTART:20221106T010000
TZOFFSETFROM:-0400
TZOFFSETTO:-0500
TZNAME:EST
END:STANDARD
END:VTIMEZONE
END:VCALENDAR