BEGIN:VCALENDAR
VERSION:2.0
PRODID:-//wp-events-plugin.com//7.2.3.1//EN
TZID:America/New_York
X-WR-TIMEZONE:America/New_York
BEGIN:VEVENT
UID:123@fibrofoundation.org
DTSTART;TZID=America/New_York:20221023T140000
DTEND;TZID=America/New_York:20221023T200000
DTSTAMP:20221012T213035Z
URL:https://fibrofoundation.org/events/pig-gig-new-jersey/
SUMMARY:Pig Gig - New Jersey
DESCRIPTION:Organized by Southside Johnny &amp\; the Asbury Jukes guitarist
  Glenn Alexander\, the seventh annual Pig Gig returns on Sun.\, Oct. 23\, 
 2022 from 2pm to 8pm at the Italian American Hall in Scotch Plains\, New J
 ersey. Pig Gig is an annual benefit held in honor of Glenn’s nephew\, Ja
 y\, who lost his battle to the disease in 2011.\n\n\nMore details about th
 e event can be found in the link below:\nhttps://www.americanbluesscene.co
 m/2022/09/glenn-alexander-hosts-cancer-benefit-pig-gig-2022/\n\n
CATEGORIES:FLC-oriented event
END:VEVENT
BEGIN:VTIMEZONE
TZID:America/New_York
X-LIC-LOCATION:America/New_York
BEGIN:DAYLIGHT
DTSTART:20220313T030000
TZOFFSETFROM:-0500
TZOFFSETTO:-0400
TZNAME:EDT
END:DAYLIGHT
END:VTIMEZONE
END:VCALENDAR