BEGIN:VCALENDAR
VERSION:2.0
PRODID:-//wp-events-plugin.com//7.2.3.1//EN
TZID:America/New_York
X-WR-TIMEZONE:America/New_York
BEGIN:VEVENT
UID:247@fibrofoundation.org
DTSTART;TZID=America/New_York:20240311T210000
DTEND;TZID=America/New_York:20240311T220000
DTSTAMP:20240229T161738Z
URL:https://fibrofoundation.org/events/stupid-cancer-monday-night-meetups-
 for-aya-community-2024-03-11/
SUMMARY:Stupid Cancer: Monday Night Meetups for the AYA Community
DESCRIPTION:\n\n\n\n\nWant to meet people who just ''get it''? Stupid Cance
 r's Monday Night Meetups are social gatherings for the adolescent and youn
 g adult community. Connect online or in-person with other patients\, survi
 vors\, caregivers\, and professionals to build lasting friendships with pe
 ople that share your experiences.\n\n\n\nThese aren't support groups... St
 upid Cancer Meetups are a space to have fun and connect with your peers\, 
 without stigma or awkward questions. \n\n\n\nTo register for Monday Night 
 Meetups\, please click here.\n
CATEGORIES:partner-sponsored event
LOCATION:https://stupidcancer.org/event/monday-night-digital-meetup-46-2/20
 24-03-04/
END:VEVENT
BEGIN:VTIMEZONE
TZID:America/New_York
X-LIC-LOCATION:America/New_York
BEGIN:DAYLIGHT
DTSTART:20240310T030000
TZOFFSETFROM:-0500
TZOFFSETTO:-0400
TZNAME:EDT
END:DAYLIGHT
END:VTIMEZONE
END:VCALENDAR