BEGIN:VCALENDAR
VERSION:2.0
PRODID:-//wp-events-plugin.com//7.2.3.1//EN
TZID:America/New_York
X-WR-TIMEZONE:America/New_York
BEGIN:VEVENT
UID:308@fibrofoundation.org
DTSTART;TZID=America/New_York:20261104T180000
DTEND;TZID=America/New_York:20261104T190000
DTSTAMP:20260217T145149Z
URL:https://fibrofoundation.org/events/webinar-balancing-work-caregiving-2
 /
SUMMARY:Webinar: Balancing Work & Caregiving
DESCRIPTION:\nCancer and Careers’ Balancing Work &amp\; Cancer Webinar Se
 ries offers sessions related to the challenges of balancing work and cance
 r.\nAll sessions are FREE and open to cancer patients\, survivors\, health
 care professionals and caregivers.\nCaring for a loved one with cancer can
  include as many components as a regular job. The challenge is to meet the
 se many responsibilities while preserving energy for yourself and your fam
 ily. Join this webinar to learn about considerations when navigating caret
 aking responsibilities and employment.  \nTopics covered include: \n\nI
 ntegrating self-care that works for you while balancing your job and careg
 iving\nBest practices for creating an action plan that may help you feel m
 ore in control of your various responsibilities as a working caregiver\nTh
 inking through workplace disclosure conversations and other tips for commu
 nicating effectively with employers and coworkers.\n\nClick here for more 
 information and to register.\n\n\n\n&nbsp\;\n
CATEGORIES:partner-sponsored event
END:VEVENT
BEGIN:VTIMEZONE
TZID:America/New_York
X-LIC-LOCATION:America/New_York
BEGIN:STANDARD
DTSTART:20261101T010000
TZOFFSETFROM:-0400
TZOFFSETTO:-0500
TZNAME:EST
END:STANDARD
END:VTIMEZONE
END:VCALENDAR